BEGIN:VCALENDAR
VERSION:2.0
PRODID:icalendar-ruby
CALSCALE:GREGORIAN
BEGIN:VEVENT
DTSTAMP:20260423T103211Z
UID:3d93ca82-597f-42fe-b8a7-5ac92d23e6db
DTSTART;VALUE=DATE:20200212
DESCRIPTION:Property ID# 471298\, Time: 2:00PM
SUMMARY:Auction for 
END:VEVENT
END:VCALENDAR
