BEGIN:VCALENDAR
VERSION:2.0
PRODID:icalendar-ruby
CALSCALE:GREGORIAN
BEGIN:VEVENT
DTSTAMP:20260421T102304Z
UID:e42404fd-e61c-472f-915c-01e3e039158f
DTSTART;VALUE=DATE:20200805
DESCRIPTION:Property ID# 485091\, Time: 2:00PM
SUMMARY:Auction for 
END:VEVENT
END:VCALENDAR
