BEGIN:VCALENDAR
VERSION:2.0
PRODID:icalendar-ruby
CALSCALE:GREGORIAN
BEGIN:VEVENT
DTSTAMP:20260421T152210Z
UID:764e3ae9-6e93-4e80-9735-9991367dd9ca
DTSTART;VALUE=DATE:20250819
DESCRIPTION:Property ID# 594996\, Locatoin: Onsite (unless sold prior)\, Ti
 me: 4:00PM
SUMMARY:Auction for 
END:VEVENT
END:VCALENDAR
