BEGIN:VCALENDAR
VERSION:2.0
PRODID:icalendar-ruby
CALSCALE:GREGORIAN
BEGIN:VEVENT
DTSTAMP:20260420T102824Z
UID:c226a8d1-f75c-4a68-8c2d-07cc527579e8
DTSTART;VALUE=DATE:20251011
DESCRIPTION:Property ID# 596949\, Locatoin: Onsite (unless sold prior)\, Ti
 me: 12:00PM
SUMMARY:Auction for 
END:VEVENT
END:VCALENDAR
