BEGIN:VCALENDAR
VERSION:2.0
PRODID:icalendar-ruby
CALSCALE:GREGORIAN
BEGIN:VEVENT
DTSTAMP:20260421T081201Z
UID:dc6851f4-55e9-4db6-b6df-3b1065b07bac
DTSTART;VALUE=DATE:20251030
DESCRIPTION:Property ID# 598032\, Locatoin: 3 Deans Avenue\, Time: 12:00PM
SUMMARY:Auction for 
END:VEVENT
END:VCALENDAR
