BEGIN:VCALENDAR
VERSION:2.0
PRODID:icalendar-ruby
CALSCALE:GREGORIAN
BEGIN:VEVENT
DTSTAMP:20260419T135845Z
UID:a4023b86-e0ef-44f3-b056-562a1d86e56c
DTSTART;VALUE=DATE:20260326
DESCRIPTION:Property ID# 603936\, Locatoin: 471 Papanui Road\, Gold Auction
  Rooms (USP)\, Time: 10:00AM
SUMMARY:Auction for 
END:VEVENT
END:VCALENDAR
