BEGIN:VCALENDAR
VERSION:2.0
PRODID:icalendar-ruby
CALSCALE:GREGORIAN
BEGIN:VEVENT
DTSTAMP:20260421T152516Z
UID:d8e07b18-6580-4c65-98b6-ebfcfb745451
DTSTART;VALUE=DATE:20260324
DESCRIPTION:Property ID# 604763\, Locatoin: Onsite (unless sold prior)\, Ti
 me: 4:00PM
SUMMARY:Auction for 1 Limbrick Crescent
END:VEVENT
END:VCALENDAR
