BEGIN:VCALENDAR
VERSION:2.0
PRODID:icalendar-ruby
CALSCALE:GREGORIAN
BEGIN:VEVENT
DTSTAMP:20260420T125109Z
UID:ec6fd13c-e576-4336-b77c-635d0d47d351
DTSTART;VALUE=DATE:20260507
DESCRIPTION:Property ID# 606860\, Locatoin: Harcourts Grenadier\, 98 Moorho
 use Avenue (unless sold prior)\, Time: 11:00AM
SUMMARY:Auction for 124B Glandovey Road
END:VEVENT
END:VCALENDAR
