BEGIN:VCALENDAR
VERSION:2.0
PRODID:icalendar-ruby
CALSCALE:GREGORIAN
BEGIN:VEVENT
DTSTAMP:20260422T161331Z
UID:d2b408ad-3432-46ca-8b3d-522836a30cda
DTSTART;TZID=Pacific/Auckland:20260422T173000
DTEND;TZID=Pacific/Auckland:20260422T180000
DESCRIPTION:Property ID# 606713
SUMMARY:Openhome for 11 Moreton Green
END:VEVENT
END:VCALENDAR
