BEGIN:VCALENDAR
VERSION:2.0
PRODID:icalendar-ruby
CALSCALE:GREGORIAN
BEGIN:VEVENT
DTSTAMP:20260422T140034Z
UID:1145b345-a664-4197-925e-298608eb8066
DTSTART;TZID=Pacific/Auckland:20260426T111500
DTEND;TZID=Pacific/Auckland:20260426T120000
DESCRIPTION:Property ID# 606797
SUMMARY:Openhome for 46 Veitches Road
END:VEVENT
END:VCALENDAR
